BEGIN:VCALENDAR
VERSION:2.0
PRODID:-//wp-events-plugin.com//7.2.3.1//EN
TZID:America/Los_Angeles
X-WR-TIMEZONE:America/Los_Angeles
BEGIN:VEVENT
UID:35-157@asce-staging.org
DTSTART;TZID=America/Los_Angeles:20250424T080000
DTEND;TZID=America/Los_Angeles:20250425T170000
DTSTAMP:20250422T203705Z
URL:https://asce-staging.org/cais/events/cais-2025-registration/
SUMMARY:CAIS 2025 - LOS ANGELES REGISTRATION
DESCRIPTION:
CATEGORIES:Los Angeles Section,Region 9
LOCATION:Hilton Long Beach Hotel\, 701 West Ocean Boulevard\, Long Beach\, 
 CA\, 90831-3102\, United States
GEO:33.768213;-118.201581
X-APPLE-STRUCTURED-LOCATION;VALUE=URI;X-ADDRESS=701 West Ocean Boulevard\, 
 Long Beach\, CA\, 90831-3102\, United States;X-APPLE-RADIUS=100;X-TITLE=Hi
 lton Long Beach Hotel:geo:33.768213,-118.201581
END:VEVENT
BEGIN:VTIMEZONE
TZID:America/Los_Angeles
X-LIC-LOCATION:America/Los_Angeles
BEGIN:DAYLIGHT
DTSTART:20250309T030000
TZOFFSETFROM:-0800
TZOFFSETTO:-0700
TZNAME:PDT
END:DAYLIGHT
END:VTIMEZONE
END:VCALENDAR