BEGIN:VCALENDAR
VERSION:2.0
PRODID:-//wp-events-plugin.com//7.2.3.1//EN
TZID:America/Los_Angeles
X-WR-TIMEZONE:America/Los_Angeles
BEGIN:VEVENT
UID:1-171@asce-staging.org
DTSTART;TZID=America/Los_Angeles;VALUE=DATE:20260318
DTEND;TZID=America/Los_Angeles;VALUE=DATE:20260321
DTSTAMP:20250718T143555Z
URL:https://asce-staging.org/events/2026-asce-legislative-fly-in/
SUMMARY:2026 ASCE Legislative Fly In
DESCRIPTION:Every spring\, ASCE holds its Legislative Fly-In in Washington\
 , DC\, an exclusive and intensive two-day event providing participants wit
 h professional development in honing their skills in the public policy pro
 cess and advocacy\, as well as valuable peer-to-peer networking with fello
 w ASCE influencers.\n\nLearn more about this event here: https://www.asce.
 org/advocacy/legislative-fly-in
ATTACH;FMTTYPE=image/jpeg:https://asce-staging.org/wp-content/uploads/2025
 /04/WV-Team-Meets-Sen-Capito-315x400-1.jpg
CATEGORIES:Region 9
END:VEVENT
BEGIN:VTIMEZONE
TZID:America/Los_Angeles
X-LIC-LOCATION:America/Los_Angeles
BEGIN:DAYLIGHT
DTSTART:20260308T030000
TZOFFSETFROM:-0800
TZOFFSETTO:-0700
TZNAME:PDT
END:DAYLIGHT
END:VTIMEZONE
END:VCALENDAR