BEGIN:VCALENDAR
VERSION:2.0
PRODID:-//wp-events-plugin.com//7.2.3.1//EN
TZID:America/Los_Angeles
X-WR-TIMEZONE:America/Los_Angeles
BEGIN:VEVENT
UID:1-41@asce-staging.org
DTSTART;TZID=America/Los_Angeles:20230616T080000
DTEND;TZID=America/Los_Angeles:20230616T170000
DTSTAMP:20221204T075419Z
URL:https://asce-staging.org/events/bog-monthly-meeting-june-2023/
SUMMARY:BOG Monthly Meeting - June 2023
DESCRIPTION:BOG Monthly Meeting - June 2023\nMeeting Materials\n\n 	Submit 
 Meeting Report(s)\n 	Meeting Agenda &amp\; Packet\n\n&nbsp\;
END:VEVENT
BEGIN:VTIMEZONE
TZID:America/Los_Angeles
X-LIC-LOCATION:America/Los_Angeles
BEGIN:DAYLIGHT
DTSTART:20230312T030000
TZOFFSETFROM:-0800
TZOFFSETTO:-0700
TZNAME:PDT
END:DAYLIGHT
END:VTIMEZONE
END:VCALENDAR