BEGIN:VCALENDAR
VERSION:2.0
PRODID:-//wp-events-plugin.com//7.2.3.1//EN
TZID:America/Los_Angeles
X-WR-TIMEZONE:America/Los_Angeles
BEGIN:VEVENT
UID:1-135@asce-staging.org
DTSTART;TZID=America/Los_Angeles:20250405T080000
DTEND;TZID=America/Los_Angeles:20250407T170000
DTSTAMP:20241119T182640Z
URL:https://asce-staging.org/events/mid-pacific-asce-student-symposium/
SUMMARY:2025 Mid-Pacific ASCE Student Symposium
DESCRIPTION:Mid-Pacific ASCE Student Symposium\n\nVisit their website for m
 ore information: https://studentsymposium.asce.org/mid-pacific/
ATTACH;FMTTYPE=image/jpeg:https://asce-staging.org/wp-content/uploads/2024
 /11/MidPac_20025.jpg
CATEGORIES:Region 9
END:VEVENT
BEGIN:VTIMEZONE
TZID:America/Los_Angeles
X-LIC-LOCATION:America/Los_Angeles
BEGIN:DAYLIGHT
DTSTART:20250309T030000
TZOFFSETFROM:-0800
TZOFFSETTO:-0700
TZNAME:PDT
END:DAYLIGHT
END:VTIMEZONE
END:VCALENDAR