BEGIN:VCALENDAR
VERSION:2.0
PRODID:-//wp-events-plugin.com//7.2.3.1//EN
TZID:America/Los_Angeles
X-WR-TIMEZONE:America/Los_Angeles
BEGIN:VEVENT
UID:1-49@asce-staging.org
DTSTART;TZID=America/Los_Angeles:20230322T080000
DTEND;TZID=America/Los_Angeles:20230325T170000
DTSTAMP:20221204T081139Z
URL:https://asce-staging.org/events/pacsw2023/
SUMMARY:PacSW2023
DESCRIPTION:Pacific Southwest\nASCE Student Symposium\nHosted by California
  State University\, Northridge\n&nbsp\;\n\nEVENT LINK
END:VEVENT
BEGIN:VTIMEZONE
TZID:America/Los_Angeles
X-LIC-LOCATION:America/Los_Angeles
BEGIN:DAYLIGHT
DTSTART:20230312T030000
TZOFFSETFROM:-0800
TZOFFSETTO:-0700
TZNAME:PDT
END:DAYLIGHT
END:VTIMEZONE
END:VCALENDAR