BEGIN:VCALENDAR
VERSION:2.0
PRODID:-//wp-events-plugin.com//7.2.3.1//EN
TZID:America/Los_Angeles
X-WR-TIMEZONE:America/Los_Angeles
BEGIN:VEVENT
UID:1-42@asce-staging.org
DTSTART;TZID=America/Los_Angeles:20230421T110000
DTEND;TZID=America/Los_Angeles:20230421T140000
DTSTAMP:20230222T043400Z
URL:https://asce-staging.org/events/r9-awards-ceremony/
SUMMARY:R9 Awards Ceremony
DESCRIPTION:\n\n\n\n\nREGION 9 AWARDS LUNCHEON\n\n\n\n\n\n\n\n\n\n\n\n\n\nB
 ahia Resort Hotel\, San Diego\, CA\nFriday\, April 21\, 2023 | 11:30 AM\n\
 n\n\n\n\n\nSeparate Registration Required: Register Here\n\n\n\n\n\n\n\n
LOCATION:Bahia Resort Hotel\, 998 W Mission Bay Dr\, San Diego\, CA\, 92109
 \, United States
GEO:32.772622;-117.246565
X-APPLE-STRUCTURED-LOCATION;VALUE=URI;X-ADDRESS=998 W Mission Bay Dr\, San 
 Diego\, CA\, 92109\, United States;X-APPLE-RADIUS=100;X-TITLE=Bahia Resort
  Hotel:geo:32.772622,-117.246565
END:VEVENT
BEGIN:VTIMEZONE
TZID:America/Los_Angeles
X-LIC-LOCATION:America/Los_Angeles
BEGIN:DAYLIGHT
DTSTART:20230312T030000
TZOFFSETFROM:-0800
TZOFFSETTO:-0700
TZNAME:PDT
END:DAYLIGHT
END:VTIMEZONE
END:VCALENDAR