BEGIN:VCALENDAR
VERSION:2.0
PRODID:-//wp-events-plugin.com//7.2.3.1//EN
TZID:America/Los_Angeles
X-WR-TIMEZONE:America/Los_Angeles
BEGIN:VEVENT
UID:1-7@asce-staging.org
DTSTART;TZID=America/Los_Angeles:20220916T090000
DTEND;TZID=America/Los_Angeles:20220916T160000
DTSTAMP:20220905T182916Z
URL:https://asce-staging.org/events/r9-bog-monthly-meeting-6/
SUMMARY:R9 BOG Monthly Meeting
DESCRIPTION:
ATTACH;FMTTYPE=image/jpeg:https://asce-staging.org/wp-content/uploads/2022
 /02/pexels-helena-lopes-705792-scaled-1.jpg
END:VEVENT
BEGIN:VTIMEZONE
TZID:America/Los_Angeles
X-LIC-LOCATION:America/Los_Angeles
BEGIN:DAYLIGHT
DTSTART:20220313T030000
TZOFFSETFROM:-0800
TZOFFSETTO:-0700
TZNAME:PDT
END:DAYLIGHT
END:VTIMEZONE
END:VCALENDAR