BEGIN:VCALENDAR
VERSION:2.0
PRODID:-//wp-events-plugin.com//7.2.3.1//EN
TZID:America/Los_Angeles
X-WR-TIMEZONE:America/Los_Angeles
BEGIN:VEVENT
UID:54-232@asce-staging.org
DTSTART;TZID=America/Los_Angeles:20251204T113000
DTEND;TZID=America/Los_Angeles:20251204T130000
DTSTAMP:20251120T170401Z
URL:https://asce-staging.org/sd/events/apwa-asce-joint-imperial-county-mee
 ting/
SUMMARY:APWA/ASCE Joint Imperial County Meeting
DESCRIPTION:
CATEGORIES:San Diego Section
END:VEVENT
BEGIN:VTIMEZONE
TZID:America/Los_Angeles
X-LIC-LOCATION:America/Los_Angeles
BEGIN:STANDARD
DTSTART:20251102T010000
TZOFFSETFROM:-0700
TZOFFSETTO:-0800
TZNAME:PST
END:STANDARD
END:VTIMEZONE
END:VCALENDAR