BEGIN:VCALENDAR
VERSION:2.0
PRODID:-//wp-events-plugin.com//7.2.3.1//EN
TZID:America/Los_Angeles
X-WR-TIMEZONE:America/Los_Angeles
BEGIN:VEVENT
UID:54-273@asce-staging.org
DTSTART;TZID=America/Los_Angeles:20260515T170000
DTEND;TZID=America/Los_Angeles:20260515T213000
DTSTAMP:20260207T011534Z
URL:https://asce-staging.org/sd/events/asce-2026-celebration-of-civil-engi
 neering/
SUMMARY:ASCE 2026 Celebration of Civil Engineering
DESCRIPTION:The resort features a 4.25-acre water park with multiple pools\
 , including a wave pool\, lazy river\, and water slides\, along with 12+ d
 ining options\, a full-service spa\, a 24-hour fitness center\, and a 28\,
 500 sq ft atrium\nThe discounted room rate for Gala Attendees is $359 (inc
 luding $40 resort fee)\nThe deadline to book discounted rooms is Wednesday
 \, April 15th\nLink to Reserve Rooms\n\n\n
CATEGORIES:San Diego Section
LOCATION:Gaylord Pacific Resort and Convention\, Center 1000 H Street\, Chu
 la Vista\, California\, 95630\, United States
GEO:32.628555;-117.104018
X-APPLE-STRUCTURED-LOCATION;VALUE=URI;X-ADDRESS=Center 1000 H Street\, Chul
 a Vista\, California\, 95630\, United States;X-APPLE-RADIUS=100;X-TITLE=Ga
 ylord Pacific Resort and Convention:geo:32.628555,-117.104018
END:VEVENT
BEGIN:VTIMEZONE
TZID:America/Los_Angeles
X-LIC-LOCATION:America/Los_Angeles
BEGIN:DAYLIGHT
DTSTART:20260308T030000
TZOFFSETFROM:-0800
TZOFFSETTO:-0700
TZNAME:PDT
END:DAYLIGHT
END:VTIMEZONE
END:VCALENDAR