BEGIN:VCALENDAR
VERSION:2.0
PRODID:-//wp-events-plugin.com//7.2.3.1//EN
TZID:America/Los_Angeles
X-WR-TIMEZONE:America/Los_Angeles
BEGIN:VEVENT
UID:54-229@asce-staging.org
DTSTART;TZID=America/Los_Angeles:20251216T113000
DTEND;TZID=America/Los_Angeles:20251216T130000
DTSTAMP:20251113T005732Z
URL:https://asce-staging.org/sd/events/asce-eeri-december-lunch-meeting/
SUMMARY:ASCE/EERI December Lunch Meeting
DESCRIPTION:
CATEGORIES:San Diego Section
LOCATION:Four Points by Sheraton\, 8110 Aero Drive\, San Diego\, United Sta
 tes
GEO:32.810819;-117.148443
X-APPLE-STRUCTURED-LOCATION;VALUE=URI;X-ADDRESS=8110 Aero Drive\, San Diego
 \, United States;X-APPLE-RADIUS=100;X-TITLE=Four Points by Sheraton:geo:32
 .810819,-117.148443
END:VEVENT
BEGIN:VTIMEZONE
TZID:America/Los_Angeles
X-LIC-LOCATION:America/Los_Angeles
BEGIN:STANDARD
DTSTART:20251102T010000
TZOFFSETFROM:-0700
TZOFFSETTO:-0800
TZNAME:PST
END:STANDARD
END:VTIMEZONE
END:VCALENDAR