BEGIN:VCALENDAR
VERSION:2.0
PRODID:-//wp-events-plugin.com//7.2.3.1//EN
TZID:America/Los_Angeles
X-WR-TIMEZONE:America/Los_Angeles
BEGIN:VEVENT
UID:54-252@asce-staging.org
DTSTART;TZID=America/Los_Angeles:20260130T144500
DTEND;TZID=America/Los_Angeles:20260130T183000
DTSTAMP:20260109T000818Z
URL:https://asce-staging.org/sd/events/san-diego-north-city-pure-water-tou
 r/
SUMMARY:San Diego North City Pure Water Tour
DESCRIPTION:
END:VEVENT
BEGIN:VTIMEZONE
TZID:America/Los_Angeles
X-LIC-LOCATION:America/Los_Angeles
BEGIN:STANDARD
DTSTART:20251102T010000
TZOFFSETFROM:-0700
TZOFFSETTO:-0800
TZNAME:PST
END:STANDARD
END:VTIMEZONE
END:VCALENDAR