BEGIN:VCALENDAR
VERSION:2.0
PRODID:-//wp-events-plugin.com//7.2.3.1//EN
BEGIN:VEVENT
UID:56-134@asce-staging.org
DTSTART;TZID=America/Los_Angeles:20241213T180000
DTEND;TZID=America/Los_Angeles:20241213T200000
DTSTAMP:20241212T180608Z
URL:https://asce-staging.org/sjbr-ymf/events/2024-joint-holiday-social/
SUMMARY:2024 Joint Holiday Party
DESCRIPTION:\n\n 	‘Tis the Season to Celebrate!\n\nMark your calendars an
 d join us for the ASCE San Jose Joint Holiday Party! Enjoy an evening of f
 estive bowling\, delicious bites\, and joyful networking with fellow engin
 eers and friends.\n\nDate: Friday\, December 13\, 2024\nTime: 6:00 PM - 8:
 00 PM\nLocation:\nHomestead Bowl\n20990 Homestead Rd\, Cupertino\, CA 9501
 4\n\nCost: $40 per person*\n\n*Includes 2 hours of bowling\, appetizers\, 
 and soft drinks/beer.\n\nWe can’t wait to bowl you over!\n\nThis event i
 s co-hosted by the ASCE San Jose Younger Member Forum and ASCE San Jose Br
 anch\, subsidiaries of the ASCE San Francisco Section\, a 501(c)(3) non-pr
 ofit organization serving the San Francisco Bay Area.\n\n
ATTACH;FMTTYPE=image/jpeg:https://asce-staging.org/sjbr-ymf/wp-content/upl
 oads/sites/56/2024/11/Holiday-Party.png
CATEGORIES:San Jose Branch
LOCATION:Homestead Bowl\, 20990 Homestead Rd\, Cupertino\, California\, 950
 14\, United States
X-APPLE-STRUCTURED-LOCATION;VALUE=URI;X-ADDRESS=20990 Homestead Rd\, Cupert
 ino\, California\, 95014\, United States;X-APPLE-RADIUS=100;X-TITLE=Homest
 ead Bowl:geo:0,0
END:VEVENT
BEGIN:VTIMEZONE
TZID:America/Los_Angeles
X-LIC-LOCATION:America/Los_Angeles
BEGIN:STANDARD
DTSTART:20241103T010000
TZOFFSETFROM:-0700
TZOFFSETTO:-0800
TZNAME:PST
END:STANDARD
END:VTIMEZONE
END:VCALENDAR