BEGIN:VCALENDAR
VERSION:2.0
PRODID:-//wp-events-plugin.com//7.2.3.1//EN
BEGIN:VEVENT
UID:56-206@asce-staging.org
DTSTART;TZID=America/Los_Angeles:20250921T090000
DTEND;TZID=America/Los_Angeles:20250921T123000
DTSTAMP:20250911T203814Z
URL:https://asce-staging.org/sjbr-ymf/events/2025-coastal-cleanup-voluntee
 r-day/
SUMMARY:2025 Coastal Cleanup Volunteer Day
DESCRIPTION:&nbsp\;\nJoin the ASCE San Jose Younger Member Forum for a volu
 nteering opportunity for Coastal Cleanup Day at the Environmental Educati
 on Center.\nDate: Sunday\, September 21\, 2025\nTime: 9:00 AM - 12:00 PM\n
 Location: Don Edwards San Francisco Bay National Wildlife Refuge Environme
 ntal Education Center\n1751 Grand Blvd San Jose\, CA 95002\n&nbsp\;\nVolun
 teers must also individually register on the Eventbrite Website linked bel
 ow to participate:\nCoastal Clean up Volunteer Day 2025\n&nbsp\;\n\nVolunt
 eer Important information:\n\n 	Driving Directions: They recommend using G
 oogle Maps and mapping to the "Environmental Education Center (EEC)" or 17
 51 Grand Blvd\, Alviso\, CA 95002.\n 	Wear comfortable clothing\, long pan
 ts\, sun protection and layers\, and closed-toe shoes - all that you don't
  mind getting dirty! They will provide gloves and all other tools and supp
 lies for this event\, but you are welcome to bring your own if preferred.\
 n 	Restrooms will be available on-site in the form of an ADA-compliant por
 table toilet and hand-washing station.\n 	Snacks will be provided!\n\nWe e
 ncourage you to join us on Discord to join the conversation and get live u
 pdates about the event. Detailed information will be sent out to registran
 ts by the Community Outreach Chair\, Batool Zaro\, prior to the event.\nFo
 r questions\, reach out to asce.ymf.sj@gmail.com or batoolzaro5@gmail.com
 \nJoin us on Discord!
ATTACH;FMTTYPE=image/jpeg:https://asce-staging.org/sjbr-ymf/wp-content/upl
 oads/sites/56/2025/09/SJ-YMF-ASCE-Coastal-Clean-Up.png
CATEGORIES:San Jose Branch
LOCATION:Don Edwards San Francisco Bay National Wildlife Refuge Environment
 al Education Center\, 1751 Grand Blvd\,  San Jose\, CA \, 95002\, United S
 tates
X-APPLE-STRUCTURED-LOCATION;VALUE=URI;X-ADDRESS=1751 Grand Blvd\,  San Jose
 \, CA \, 95002\, United States;X-APPLE-RADIUS=100;X-TITLE=Don Edwards San 
 Francisco Bay National Wildlife Refuge Environmental Education Center:geo:
 0,0
END:VEVENT
BEGIN:VTIMEZONE
TZID:America/Los_Angeles
X-LIC-LOCATION:America/Los_Angeles
BEGIN:DAYLIGHT
DTSTART:20250309T030000
TZOFFSETFROM:-0800
TZOFFSETTO:-0700
TZNAME:PDT
END:DAYLIGHT
END:VTIMEZONE
END:VCALENDAR