BEGIN:VCALENDAR
VERSION:2.0
PRODID:-//wp-events-plugin.com//7.2.3.1//EN
BEGIN:VEVENT
UID:56-152@asce-staging.org
DTSTART;TZID=America/Los_Angeles:20250123T180000
DTEND;TZID=America/Los_Angeles:20250123T190000
DTSTAMP:20250121T174858Z
URL:https://asce-staging.org/sjbr-ymf/events/january-2025-monthly-board-me
 eting/
SUMMARY:January 2025 Monthly Board Meeting
DESCRIPTION:Join us for our monthly board meeting. Upon registering\, a Zoo
 m link will be sent via email.
ATTACH;FMTTYPE=image/jpeg:https://asce-staging.org/sjbr-ymf/wp-content/upl
 oads/sites/56/2024/09/Zoom-Graphic.png
CATEGORIES:San Jose Branch
END:VEVENT
BEGIN:VTIMEZONE
TZID:America/Los_Angeles
X-LIC-LOCATION:America/Los_Angeles
BEGIN:STANDARD
DTSTART:20241103T010000
TZOFFSETFROM:-0700
TZOFFSETTO:-0800
TZNAME:PST
END:STANDARD
END:VTIMEZONE
END:VCALENDAR