BEGIN:VCALENDAR
VERSION:2.0
PRODID:-//wp-events-plugin.com//7.2.3.1//EN
BEGIN:VEVENT
UID:56-123@asce-staging.org
DTSTART;TZID=America/Los_Angeles:20241121T180000
DTEND;TZID=America/Los_Angeles:20241121T190000
DTSTAMP:20241121T042605Z
URL:https://asce-staging.org/sjbr-ymf/events/november-2024-monthly-board-m
 eeting/
SUMMARY:November 2024 Monthly Board Meeting
DESCRIPTION:Join us for our November board meeting on Thursday\, November 2
 1st from 6:00 PM to 7:00PM at the Lea &amp\; Braze Engineering office.\nDa
 te: November 21\, 2024\nTime: 6:00 PM - 7:30 PM\nLocation: Lea &amp\; Braz
 e Engineering\n1723 Hamilton Ave #200\, San Jose\, CA\n Please note there
  will be a nominal registration fee to provide dinner for those attending 
 in-person. A Zoom link will be provided prior to the meeting for those who
  cannot attend in-person\; however\, we encourage you to attend in-person 
 to meet other local young engineering professionals.\nThe ASCE San Jose Yo
 unger Member Forum is a subsidiary of the ASCE San Francisco Section\, a 5
 01c(3) non-profit organization\, operating locally in the San Francisco ba
 y area.
ATTACH;FMTTYPE=image/jpeg:https://asce-staging.org/sjbr-ymf/wp-content/upl
 oads/sites/56/2024/09/Zoom-Graphic.png
CATEGORIES:San Jose Branch
LOCATION:Lea &amp\; Braze Engineering\, 1723 Hamilton Ave #200\, San Jose\,
  CA\, 95125\, United States
X-APPLE-STRUCTURED-LOCATION;VALUE=URI;X-ADDRESS=1723 Hamilton Ave #200\, Sa
 n Jose\, CA\, 95125\, United States;X-APPLE-RADIUS=100;X-TITLE=Lea & Braze
  Engineering:geo:0,0
END:VEVENT
BEGIN:VTIMEZONE
TZID:America/Los_Angeles
X-LIC-LOCATION:America/Los_Angeles
BEGIN:STANDARD
DTSTART:20241103T010000
TZOFFSETFROM:-0700
TZOFFSETTO:-0800
TZNAME:PST
END:STANDARD
END:VTIMEZONE
END:VCALENDAR