BEGIN:VCALENDAR
VERSION:2.0
PRODID:-//wp-events-plugin.com//7.2.3.1//EN
BEGIN:VEVENT
UID:56-133@asce-staging.org
DTSTART;TZID=America/Los_Angeles:20241123T070000
DTEND;TZID=America/Los_Angeles:20241123T093000
DTSTAMP:20241116T180335Z
URL:https://asce-staging.org/sjbr-ymf/events/november-foodbank-1/
SUMMARY:Second Harvest Food Bank
DESCRIPTION:&nbsp\;\nJoin the ASCE San Jose Younger Member Forum for a volu
 nteering opportunity with Second Harvest's Food Bank Distribution.\nDate: 
 Saturday\, November 23\, 2024\nTime: 7:00 - 9:30 AM\nLocation: 621 Masonic
  Way\, Belmont\, CA 94002\nWe encourage you to join us on Discord to join 
 the conversation and get live updates about the event. Detailed informatio
 n will be sent out to registrants by the Community Outreach Chair\, Batool
  Zaro\, prior to the event.\nFor questions\, reach out to asce.ymf.sj@gmai
 l.com or batoolzaro5@gmail.com\nJoin us on Discord!
ATTACH;FMTTYPE=image/jpeg:https://asce-staging.org/sjbr-ymf/wp-content/upl
 oads/sites/56/2024/11/food-drive-Instagram-Post.png
CATEGORIES:San Jose Branch
LOCATION:621 Masonic Way\, 621 Masonic Way\, Belmont\, California\, 94002\,
  United States
X-APPLE-STRUCTURED-LOCATION;VALUE=URI;X-ADDRESS=621 Masonic Way\, Belmont\,
  California\, 94002\, United States;X-APPLE-RADIUS=100;X-TITLE=621 Masonic
  Way:geo:0,0
END:VEVENT
BEGIN:VTIMEZONE
TZID:America/Los_Angeles
X-LIC-LOCATION:America/Los_Angeles
BEGIN:STANDARD
DTSTART:20241103T010000
TZOFFSETFROM:-0700
TZOFFSETTO:-0800
TZNAME:PST
END:STANDARD
END:VTIMEZONE
END:VCALENDAR