BEGIN:VCALENDAR
VERSION:2.0
PRODID:-//wp-events-plugin.com//7.2.3.1//EN
BEGIN:VEVENT
UID:56-124@asce-staging.org
DTSTART;TZID=America/Los_Angeles:20241115T183000
DTEND;TZID=America/Los_Angeles:20241115T230000
DTSTAMP:20241022T031113Z
URL:https://asce-staging.org/sjbr-ymf/events/november-social/
SUMMARY:November Social
DESCRIPTION:&nbsp\;\nJoin the ASCE San Jose Younger Member Forum for an eve
 ning of fun at San Pedro Square Market! Enjoy your first beer/soft drink o
 n us! This event is open to ASCE members\, non-members\, family\, and frie
 nds! Registration is required. Hope to see you there!\nDate: Friday\, Nove
 mber 15\, 2024\nTime: 6:00 PM - Closing\nLocation: San Pedro Square Market
 \n87 North San Pedro Street\, San Jose\, CA\nWe encourage you to join us o
 n Discord to join the conversation and get live updates about the event. S
 eating at San Pedro Square is first-come\, first-served but we will try to
  find seating that accommodates the whole group.\nJoin us on Discord!
ATTACH;FMTTYPE=image/jpeg:https://asce-staging.org/sjbr-ymf/wp-content/upl
 oads/sites/56/2024/10/Nov_Social-e1729454907898.jpg
LOCATION:San Pedro Square Market\, 87 North San Pedro Street\, San Jose\, U
 nited States
X-APPLE-STRUCTURED-LOCATION;VALUE=URI;X-ADDRESS=87 North San Pedro Street\,
  San Jose\, United States;X-APPLE-RADIUS=100;X-TITLE=San Pedro Square Mark
 et:geo:0,0
END:VEVENT
BEGIN:VTIMEZONE
TZID:America/Los_Angeles
X-LIC-LOCATION:America/Los_Angeles
BEGIN:STANDARD
DTSTART:20241103T010000
TZOFFSETFROM:-0700
TZOFFSETTO:-0800
TZNAME:PST
END:STANDARD
END:VTIMEZONE
END:VCALENDAR