BEGIN:VCALENDAR
VERSION:2.0
PRODID:-//wp-events-plugin.com//7.2.3.1//EN
BEGIN:VEVENT
UID:56-173@asce-staging.org
DTSTART;TZID=America/Los_Angeles:20250712T110000
DTEND;TZID=America/Los_Angeles:20250712T150000
DTSTAMP:20250527T210617Z
URL:https://asce-staging.org/sjbr-ymf/events/summer_bbq/
SUMMARY:2nd Annual Civil Engineering Clubs Summer BBQ
DESCRIPTION:&nbsp\;\nJoin the ASCE San Jose Younger Member Forum and ASCE S
 an Francisco Younger Member Forum for an afternoon of great food\, network
 ing\, and friendly competitions!  We are also excited to welcome our two 
 major sponsors GHD San Francisco and AECOM Oakland.\nDate: Saturday\, July
  12\, 2025\nTime: 11:00 AM - 3:00 PM\nLocation: Coyote Point Recreation Ar
 ea\n1701 Coyote Point Dr\, San Mateo\, CA 94401\nEucalyptus Group Picnic A
 rea #1 \nWe encourage you to join us on Discord to join the conversation a
 nd get live updates about the event.\nFor questions\, email us at asce.ym
 f.sj@gmail.com or sf.asce.ymf@gmail.com\nJoin us on Discord!\n&nbsp\;\nThe
  ASCE San Jose Younger Member Forum is a subsidiary of the ASCE San Franci
 sco Section\, a 501c(3) non-profit organization\, operating locally in the
  San Francisco bay area.\n&nbsp\;
ATTACH;FMTTYPE=image/jpeg:https://asce-staging.org/sjbr-ymf/wp-content/upl
 oads/sites/56/2025/05/BBQ-FLYER-V2-1.png
CATEGORIES:San Jose Branch
LOCATION:Coyote Point\, 1701 Coyote Point Dr\, San Mateo\, CA 94401\, San M
 ateo\, CA\, 94401\, United States
X-APPLE-STRUCTURED-LOCATION;VALUE=URI;X-ADDRESS=1701 Coyote Point Dr\, San 
 Mateo\, CA 94401\, San Mateo\, CA\, 94401\, United States;X-APPLE-RADIUS=1
 00;X-TITLE=Coyote Point:geo:0,0
END:VEVENT
BEGIN:VTIMEZONE
TZID:America/Los_Angeles
X-LIC-LOCATION:America/Los_Angeles
BEGIN:DAYLIGHT
DTSTART:20250309T030000
TZOFFSETFROM:-0800
TZOFFSETTO:-0700
TZNAME:PDT
END:DAYLIGHT
END:VTIMEZONE
END:VCALENDAR