BEGIN:VCALENDAR
VERSION:2.0
PRODID:-//wp-events-plugin.com//7.2.3.1//EN
BEGIN:VEVENT
UID:56-207@asce-staging.org
DTSTART;TZID=America/Los_Angeles:20250926T150000
DTEND;TZID=America/Los_Angeles:20250926T170000
DTSTAMP:20250912T192915Z
URL:https://asce-staging.org/sjbr-ymf/events/tour-sjc/
SUMMARY:Technical Tour: San Jose Mineta International Airport
DESCRIPTION:Join us for an exclusive airside tour at the San Jose Mineta In
 ternational Airport and gain a behind-the-scenes look at runways\, taxiway
 s\, and aircraft operations.\nDate: Friday\, September 26\nTime: 3:00pm - 
 5:00pm\nLocation: San Jose Mineta International Airport\n1701 Airport Blvd
  Ste B-1130\, San Jose\, CA 95110\nMember: $15*\nNon-Member: $25\nMembers 
 must enter ASCE Member Number or APWA Member Number when registering.\nPPE
  Required: All attendees must wear close-toed shoes and a high visibility 
 vest.\nFollowing the tour\, join us for a networking social at Zone 8 Spor
 ts Bar &amp\; Grill. First drink and appetizer on us.\nTime: 5:00pm - 7:00
 pm\nLocation: Zone 8 Sports Bar &amp\; Grill\n1887 Matrix Blvd\, San Jose\
 , CA 95110\n&nbsp\;\nThe ASCE San Jose Younger Member Forum is a subsidiar
 y of the ASCE San Francisco Section\, a 501(c)(3) non-profit organization\
 , operating locally in the San Francisco bay area.
ATTACH;FMTTYPE=image/jpeg:https://asce-staging.org/sjbr-ymf/wp-content/upl
 oads/sites/56/2025/09/SJC-Tour-Flyer-Draft-1-to-1.png
CATEGORIES:San Jose Branch
LOCATION:San Jose Mineta International Aiport\, 1701 Airport Blvd\, Suite B
 -1130\, San Jose\, CA \, 95110\, United States
X-APPLE-STRUCTURED-LOCATION;VALUE=URI;X-ADDRESS=1701 Airport Blvd\, Suite B
 -1130\, San Jose\, CA \, 95110\, United States;X-APPLE-RADIUS=100;X-TITLE=
 San Jose Mineta International Aiport:geo:0,0
END:VEVENT
BEGIN:VTIMEZONE
TZID:America/Los_Angeles
X-LIC-LOCATION:America/Los_Angeles
BEGIN:DAYLIGHT
DTSTART:20250309T030000
TZOFFSETFROM:-0800
TZOFFSETTO:-0700
TZNAME:PDT
END:DAYLIGHT
END:VTIMEZONE
END:VCALENDAR