BEGIN:VCALENDAR
VERSION:2.0
PRODID:-//wp-events-plugin.com//7.2.3.1//EN
BEGIN:VEVENT
UID:56-223@asce-staging.org
DTSTART;TZID=America/Los_Angeles:20251127T053000
DTEND;TZID=America/Los_Angeles:20251127T100000
DTSTAMP:20251104T034409Z
URL:https://asce-staging.org/sjbr-ymf/events/turkey-trot-2025-volunteer-ev
 ent/
SUMMARY:Turkey Trot 2025 Volunteer Event
DESCRIPTION:Join the ASCE San Jose Younger Member Forum for a volunteering 
 opportunity with Second Harvest of Silicon Valley.\nDate: Thursday\, Novem
 ber 27\, 2025\nTime: 5:30 AM - 10:00 AM\nLocation: SAP Center\n525 West Sa
 nta Clara Street\nSan Jose\, CA 95113\nVolunteers must also individually r
 egister on the website linked below to participate:\nTurkey Trot Volunteer
  Registration Deadline: Please complete registration by 11/16/2025\, 11:45
  PM.\n\nUpon Registering with Second Harvest of Silicon Valley\, Please re
 turn to this page to complete your registration.\nVolunteer Important info
 rmation:\n\n 	Check-in: Head to the SAP Center. Check-in is under the stai
 rcase to the north entrance of SAP at the corner of West St. John Street a
 nd Montgomery Street.\n 	Parking: West Santa Clara Street will be closed. 
 To get to the SAP Center lot\, please approach from Julian Street on the n
 orth side of the building and turn southeast on to N. Montgomery Street. P
 arking is free.\n 	Arrive 15 minutes early to check in and pick up a Turke
 y Trot volunteer t-shirt.\n 	Wear your volunteer t-shirt over your clothes
  or jacket.\n 	Important: 18 years and older only.\n 	Wear comfortable clo
 sed-toe shoes and long pants.\n 	No storage is available\, so keep persona
 l items light.\n 	Need service hours? Timecards will be provided at the ev
 ent.\n 	This event will take place rain or shine\, so please dress in laye
 rs.\n\nWe encourage you to join us on Discord to join the conversation and
  get live updates about the event. Detailed information will be sent out t
 o registrants by the Community Outreach Chair\, John Dillard\, prior to th
 e event.\nFor questions\, reach out to asce.ymf.sj@gmail.com or john.dilla
 rd518@gmail.com\nJoin us on Discord!
ATTACH;FMTTYPE=image/jpeg:https://asce-staging.org/sjbr-ymf/wp-content/upl
 oads/sites/56/2025/10/Final-Turkey-Trot-Flyer-pdf.jpg
CATEGORIES:San Jose Branch YMF
LOCATION:SAP Center\, 525 W Santa Clara St\, San Jose\, California\, 95113\
 , United States
X-APPLE-STRUCTURED-LOCATION;VALUE=URI;X-ADDRESS=525 W Santa Clara St\, San 
 Jose\, California\, 95113\, United States;X-APPLE-RADIUS=100;X-TITLE=SAP C
 enter:geo:0,0
END:VEVENT
BEGIN:VTIMEZONE
TZID:America/Los_Angeles
X-LIC-LOCATION:America/Los_Angeles
BEGIN:STANDARD
DTSTART:20251102T010000
TZOFFSETFROM:-0700
TZOFFSETTO:-0800
TZNAME:PST
END:STANDARD
END:VTIMEZONE
END:VCALENDAR