BEGIN:VCALENDAR
VERSION:2.0
PRODID:-//wp-events-plugin.com//7.2.3.1//EN
BEGIN:VEVENT
UID:56-144@asce-staging.org
DTSTART;TZID=America/Los_Angeles:20250131T143000
DTEND;TZID=America/Los_Angeles:20250131T160000
DTSTAMP:20250130T231522Z
URL:https://asce-staging.org/sjbr-ymf/events/vta-tour/
SUMMARY:VTA Express Lanes Operation Center Tour
DESCRIPTION:&nbsp\;\nJoin the ASCE San Jose Branch &amp\; Younger Member Fo
 rum for an exciting tour of the\nExpress Lanes Operation Center Tour at Sa
 nta Clara Valley Transportation Authority (VTA)\,\nfollowed by a happy hou
 r at Blast &amp\; Brew!\nDate: Friday\, January 31\, 2025\nTime: 2:30 PM -
  4:00 PM\nLocation: VTA Headquarters\n3331 N First St\, San Jose\, CA 9513
 4\nParking information will be shared with registrants prior to the event.
 \n&nbsp\;\nPost Tour Happy Hour\nDate: Friday\, January 31\, 2025\nTime: 4
 :15 PM\nLocation: Blast &amp\; Brew\n55 River Oaks Pl Ste 60\, San Jose\, 
 CA 95134\n(Across the street from VTA HQ)\nDon’t miss this opportunity t
 o network and learn!\nJoin us on Discord!\nThe ASCE San Jose Younger Membe
 r Forum is a subsidiary of the ASCE San Francisco Section\, a 501c(3) non-
 profit organization\, operating locally in the San Francisco bay area.
ATTACH;FMTTYPE=image/jpeg:https://asce-staging.org/sjbr-ymf/wp-content/upl
 oads/sites/56/2025/01/IMG_1050.png
CATEGORIES:San Jose Branch
LOCATION:VTA Headquarters\, 3331 N First St\, San Jose\, California\, 95134
 \, United States
X-APPLE-STRUCTURED-LOCATION;VALUE=URI;X-ADDRESS=3331 N First St\, San Jose\
 , California\, 95134\, United States;X-APPLE-RADIUS=100;X-TITLE=VTA Headqu
 arters:geo:0,0
END:VEVENT
BEGIN:VTIMEZONE
TZID:America/Los_Angeles
X-LIC-LOCATION:America/Los_Angeles
BEGIN:STANDARD
DTSTART:20241103T010000
TZOFFSETFROM:-0700
TZOFFSETTO:-0800
TZNAME:PST
END:STANDARD
END:VTIMEZONE
END:VCALENDAR