BEGIN:VCALENDAR
VERSION:2.0
PRODID:-//wp-events-plugin.com//7.2.3.1//EN
TZID:America/Los_Angeles
X-WR-TIMEZONE:America/Los_Angeles
BEGIN:VEVENT
UID:55-149@asce-staging.org
DTSTART;TZID=America/Los_Angeles:20241213T180000
DTEND;TZID=America/Los_Angeles:20241213T200000
DTSTAMP:20250105T033903Z
URL:https://asce-staging.org/sjbr/events/2025-joint-branch-ymf-holiday-soc
 ial/
SUMMARY:2025 Joint Branch | YMF Holiday Social
DESCRIPTION:Join the ASCE San Jose Branch and San Jose Younger Member Forum
  for their annual joint holiday social.\nDate: December 13\, 2024\nTime: 6
 :00PM – 8:00PM\nLocation: Homestead Bowl\n20990 Homestead Rd\, Cupertino
 \, CA 95014\nCost: $40\n*Includes 2 hours of bowling\, appetizers\, and so
 ft drinks/beer.\n\nRegistration can be completed through ASCE SJ YMF's web
 site:\nREGISTER HERE\n\n\nThis event is co-hosted by the ASCE San Jose Yo
 unger Member Forum and ASCE San Jose Branch\, subsidiaries of the ASCE San
  Francisco Section\, a 501(c)(3) non-profit organization serving the San F
 rancisco Bay Area.\n
LOCATION:Homestead Bowl\, 20990 Homestead Rd\, Cupertino\, CA\, 95014\, Uni
 ted States
X-APPLE-STRUCTURED-LOCATION;VALUE=URI;X-ADDRESS=20990 Homestead Rd\, Cupert
 ino\, CA\, 95014\, United States;X-APPLE-RADIUS=100;X-TITLE=Homestead Bowl
 :geo:0,0
END:VEVENT
BEGIN:VTIMEZONE
TZID:America/Los_Angeles
X-LIC-LOCATION:America/Los_Angeles
BEGIN:STANDARD
DTSTART:20241103T010000
TZOFFSETFROM:-0700
TZOFFSETTO:-0800
TZNAME:PST
END:STANDARD
END:VTIMEZONE
END:VCALENDAR