BEGIN:VCALENDAR
VERSION:2.0
PRODID:-//wp-events-plugin.com//7.2.3.1//EN
TZID:America/Los_Angeles
X-WR-TIMEZONE:America/Los_Angeles
BEGIN:VEVENT
UID:55-234@asce-staging.org
DTSTART;TZID=America/Los_Angeles:20251219T180000
DTEND;TZID=America/Los_Angeles:20251219T203000
DTSTAMP:20251201T165211Z
URL:https://asce-staging.org/sjbr/events/branch-ymf-joint-holiday-social/
SUMMARY:Branch | YMF Joint Holiday Social
DESCRIPTION:Let the Good Times Roll!\nGet ready to strike up some holiday c
 heer with the ASCE San Jose Joint Holiday Social! We're swapping hard hats
  for bowling shoes for one festive night of laughter\, bites\, and friendl
 y competition with your fellow engineers and friends.\nWe will also be don
 ating blankets to those in need\; attendees are encouraged to bring new or
  lightly used blankets to contribute to the drive!\nPlease note that the e
 vent date has been changed\, see below for updated details!\nDate: Friday\
 , December 19\, 2025\nTime: 6:00 PM - 8:30 PM\nLocation: Homestead Bowl\n2
 0990 Homestead Rd\, Cupertino\, CA 95014\nCost: $40 per person for ASCE me
 mbers / $50 per person for non-members\n*Includes 2.5 hours of bowling\, p
 izza\, appetizers\, and soft drinks/beer.\n\nTo register\, visit the YMF e
 vent page here.\nWhether you bowl strikes\, gutter balls\, or somewhere in
  between\, we're just looking forward to hanging out and sharing some holi
 day cheer!\nThis event is co-hosted by the ASCE San Jose Younger Member Fo
 rum and ASCE San Jose Branch\, subsidiaries of the ASCE San Francisco Sect
 ion\, a 501(c)(3) non-profit organization serving the San Francisco Bay Ar
 ea.
ATTACH;FMTTYPE=image/jpeg:https://asce-staging.org/sjbr/wp-content/uploads
 /sites/55/2025/12/2025-Holiday-Social-New-Date.png
CATEGORIES:San Jose Branch,San Jose Branch YMF
LOCATION:Homestead Bowl\, 20990 Homestead Rd\, Cupertino\, CA\, 95014\, Uni
 ted States
X-APPLE-STRUCTURED-LOCATION;VALUE=URI;X-ADDRESS=20990 Homestead Rd\, Cupert
 ino\, CA\, 95014\, United States;X-APPLE-RADIUS=100;X-TITLE=Homestead Bowl
 :geo:0,0
END:VEVENT
BEGIN:VTIMEZONE
TZID:America/Los_Angeles
X-LIC-LOCATION:America/Los_Angeles
BEGIN:STANDARD
DTSTART:20251102T010000
TZOFFSETFROM:-0700
TZOFFSETTO:-0800
TZNAME:PST
END:STANDARD
END:VTIMEZONE
END:VCALENDAR