BEGIN:VCALENDAR
VERSION:2.0
PRODID:-//wp-events-plugin.com//7.2.3.1//EN
TZID:America/Los_Angeles
X-WR-TIMEZONE:America/Los_Angeles
BEGIN:VEVENT
UID:55-131@asce-staging.org
DTSTART;TZID=America/Los_Angeles:20241107T173000
DTEND;TZID=America/Los_Angeles:20241107T183000
DTSTAMP:20250617T023511Z
URL:https://asce-staging.org/sjbr/events/november-2024-board-meeting/
SUMMARY:November 2024 Board Meeting
DESCRIPTION:Join us for our monthly board meeting. Upon registering\, you w
 ill receive a Zoom link via email.
ATTACH;FMTTYPE=image/jpeg:https://asce-staging.org/sjbr/wp-content/uploads
 /sites/55/2025/05/Branch-Zoom-Graphic-8.5-x-8.5-in.png
END:VEVENT
BEGIN:VTIMEZONE
TZID:America/Los_Angeles
X-LIC-LOCATION:America/Los_Angeles
BEGIN:STANDARD
DTSTART:20241103T010000
TZOFFSETFROM:-0700
TZOFFSETTO:-0800
TZNAME:PST
END:STANDARD
END:VTIMEZONE
END:VCALENDAR