BEGIN:VCALENDAR
VERSION:2.0
PRODID:-//wp-events-plugin.com//7.2.3.1//EN
TZID:America/Los_Angeles
X-WR-TIMEZONE:America/Los_Angeles
BEGIN:VEVENT
UID:55-113@asce-staging.org
DTSTART;TZID=America/Los_Angeles:20241114T173000
DTEND;TZID=America/Los_Angeles:20241114T203000
DTSTAMP:20241022T153655Z
URL:https://asce-staging.org/sjbr/events/sponsor-2024-ssec-awards-banquet/
SUMMARY:Sponsor 2024 SSEC Awards Banquet
DESCRIPTION:\nThe American Society of Civil Engineers (ASCE) San Jose Branc
 h\, a 501(c)(3) non-profit organization\, seeks your support for our annua
 l awards banquet which recognizes the winners of our annual Student Schol
 arship Essay Contest. Sponsorship of the awards banquet includes several b
 enefits as outlined in our proposal and as shown below. Sponsorships recei
 ved in excess of the cost of our banquet will automatically be rolled over
  to provide additional scholarships.\nEvent Details:\nDate: Thursday\, Nov
 ember 14\, 2024\nTime: 5:30 – 8:00 PM\nLocation: Michaels Restaurant at
  Shoreline Golf Links\n2960 North Shoreline Boulevard\, Mountain View\, CA
 \nTentative Program:\n5:30 PM - Networking Hour\n6:30 PM - Dinner\n7:00 PM
  - Awards Program\nPurchase Single Event Tickets Here\nSponsorship Tiers\n
 Platinum - $2\,500\nGold - $1\,500\nSilver - $1\,000\n\nPlease note that t
 his portal will direct you to PayPal to complete your payment online. Upon
  receipt of payment a member of our team will contact you to verify compan
 y details\, request the names of your guests\, and request a high quality 
 logo.\nIf you would rather pay by check\, please follow the directions und
 er "By Mail" on our Sponsorship webpage here. If you are interested in dir
 ectly donating to a scholarship\, you can do so by visiting our Scholarshi
 p Donation PayPal Campaign here.\n\nSponsorship Tiers\n\n\n&nbsp\;\nFormal
  invoice\, receipt\, and/or W-9 can be made available upon request. Please
  direct any questions\, comments\, or concerns to ascesanjosebranch@gmail.
 com\nThe ASCE San Jose Branch is a division under ASCE San Francisco Secti
 on\, a 501c(3) non-profit organization\, operating locally in the San Fran
 cisco bay area. 575 Market Street\, Suite 2125\, San Francisco\, CA 94105
CATEGORIES:San Jose Branch
LOCATION:Michaels Restaurant\, 2940 North Shoreline Boulevard\, Mountain Vi
 ew\, CA\, 94043\, Bay Area\, United Kingdom
X-APPLE-STRUCTURED-LOCATION;VALUE=URI;X-ADDRESS=2940 North Shoreline Boulev
 ard\, Mountain View\, CA\, 94043\, Bay Area\, United Kingdom;X-APPLE-RADIU
 S=100;X-TITLE=Michaels Restaurant:geo:0,0
END:VEVENT
BEGIN:VTIMEZONE
TZID:America/Los_Angeles
X-LIC-LOCATION:America/Los_Angeles
BEGIN:STANDARD
DTSTART:20241103T010000
TZOFFSETFROM:-0700
TZOFFSETTO:-0800
TZNAME:PST
END:STANDARD
END:VTIMEZONE
END:VCALENDAR